BEGIN:VCALENDAR
VERSION:2.0
PRODID:-//New Heart Brasil - ECPv6.15.20//NONSGML v1.0//EN
CALSCALE:GREGORIAN
METHOD:PUBLISH
X-WR-CALNAME:New Heart Brasil
X-ORIGINAL-URL:https://newheartbrasil.org
X-WR-CALDESC:Eventos para New Heart Brasil
REFRESH-INTERVAL;VALUE=DURATION:PT1H
X-Robots-Tag:noindex
X-PUBLISHED-TTL:PT1H
BEGIN:VTIMEZONE
TZID:America/Sao_Paulo
BEGIN:STANDARD
TZOFFSETFROM:-0300
TZOFFSETTO:-0300
TZNAME:-03
DTSTART:20250101T000000
END:STANDARD
END:VTIMEZONE
BEGIN:VEVENT
DTSTART;TZID=America/Sao_Paulo:20260406T190000
DTEND;TZID=America/Sao_Paulo:20260518T190000
DTSTAMP:20260423T095907
CREATED:20260212T181506Z
LAST-MODIFIED:20260212T181506Z
UID:12879-1775502000-1779130800@newheartbrasil.org
SUMMARY:Classe de Baixo Para Louvor - Básico
DESCRIPTION:7 Encontros semanais para iniciantes de contrabaixo elétrico. \n  \nInício: 6 de Abril (segunda) \nEncerramento: 18 de Maio (segunda) \nHorario: 19h \nLocal: R. Pirapitingui\, 174 – Liberdade – São Paulo \nProfessor: Lucas Barbosa \n  \nOportunidade para iniciantes “molharem o pé antes de mergulhar” no aprendizado de um instrumento. \nTodas as classes visam dar base para servir no louvor. Tanto musical quanto espiritual. \n  \nAs turmas de Baixo e Bateria terão aulas conjuntas nos dias 11 e 13 de maio\, para aprender a tocar juntos e colocar em prática o que aprenderam.
URL:https://newheartbrasil.org/event/classe-de-baixo-para-louvor-basico/
END:VEVENT
END:VCALENDAR